Workbook

Sheet Monthly
A1: Employee | B1: 1 | C1: 2 | D1: 3 | E1: 4 | F1: 5 | G1: 6 | H1: 7 | I1: 8 | J1: 9 | K1: 10 | L1: 11 | M1: 12 | N1: 13 | O1: 14 | P1: 15 | Q1: 16 | R1: 17 | S1: 18 | T1: 19 | U1: 20 | V1: 21 | W1: 22 | X1: 23 | Y1: 24 | Z1: 25 | AA1: 26 | AB1: 27 | AC1: 28 | AD1: 29 | AE1: 30 | AF1: 31 | AG1: Present | AH1: Absent | AI1: Leave | AJ1: Half day
A2: Sample employee A | B2: P | C2: P | D2: P | E2: H | F2: P | G2: WO | H2: WO | I2: P | J2: A | K2: P | AG2: =IF(A2="","",COUNTIF(B2:AF2,"P")+COUNTIF(B2:AF2,"H")/2) | AH2: =IF(A2="","",COUNTIF(B2:AF2,"A")) | AI2: =IF(A2="","",COUNTIF(B2:AF2,"L")) | AJ2: =IF(A2="","",COUNTIF(B2:AF2,"H"))
A3: Sample employee B | B3: P | C3: A | D3: P | E3: WO | F3: WO | G3: P | H3: H | I3: P | J3: P | K3: P | AG3: =IF(A3="","",COUNTIF(B3:AF3,"P")+COUNTIF(B3:AF3,"H")/2) | AH3: =IF(A3="","",COUNTIF(B3:AF3,"A")) | AI3: =IF(A3="","",COUNTIF(B3:AF3,"L")) | AJ3: =IF(A3="","",COUNTIF(B3:AF3,"H"))
AG4: =IF(A4="","",COUNTIF(B4:AF4,"P")+COUNTIF(B4:AF4,"H")/2) | AH4: =IF(A4="","",COUNTIF(B4:AF4,"A")) | AI4: =IF(A4="","",COUNTIF(B4:AF4,"L")) | AJ4: =IF(A4="","",COUNTIF(B4:AF4,"H"))
AG5: =IF(A5="","",COUNTIF(B5:AF5,"P")+COUNTIF(B5:AF5,"H")/2) | AH5: =IF(A5="","",COUNTIF(B5:AF5,"A")) | AI5: =IF(A5="","",COUNTIF(B5:AF5,"L")) | AJ5: =IF(A5="","",COUNTIF(B5:AF5,"H"))
AG6: =IF(A6="","",COUNTIF(B6:AF6,"P")+COUNTIF(B6:AF6,"H")/2) | AH6: =IF(A6="","",COUNTIF(B6:AF6,"A")) | AI6: =IF(A6="","",COUNTIF(B6:AF6,"L")) | AJ6: =IF(A6="","",COUNTIF(B6:AF6,"H"))
AG7: =IF(A7="","",COUNTIF(B7:AF7,"P")+COUNTIF(B7:AF7,"H")/2) | AH7: =IF(A7="","",COUNTIF(B7:AF7,"A")) | AI7: =IF(A7="","",COUNTIF(B7:AF7,"L")) | AJ7: =IF(A7="","",COUNTIF(B7:AF7,"H"))
AG8: =IF(A8="","",COUNTIF(B8:AF8,"P")+COUNTIF(B8:AF8,"H")/2) | AH8: =IF(A8="","",COUNTIF(B8:AF8,"A")) | AI8: =IF(A8="","",COUNTIF(B8:AF8,"L")) | AJ8: =IF(A8="","",COUNTIF(B8:AF8,"H"))
AG9: =IF(A9="","",COUNTIF(B9:AF9,"P")+COUNTIF(B9:AF9,"H")/2) | AH9: =IF(A9="","",COUNTIF(B9:AF9,"A")) | AI9: =IF(A9="","",COUNTIF(B9:AF9,"L")) | AJ9: =IF(A9="","",COUNTIF(B9:AF9,"H"))
AG10: =IF(A10="","",COUNTIF(B10:AF10,"P")+COUNTIF(B10:AF10,"H")/2) | AH10: =IF(A10="","",COUNTIF(B10:AF10,"A")) | AI10: =IF(A10="","",COUNTIF(B10:AF10,"L")) | AJ10: =IF(A10="","",COUNTIF(B10:AF10,"H"))
AG11: =IF(A11="","",COUNTIF(B11:AF11,"P")+COUNTIF(B11:AF11,"H")/2) | AH11: =IF(A11="","",COUNTIF(B11:AF11,"A")) | AI11: =IF(A11="","",COUNTIF(B11:AF11,"L")) | AJ11: =IF(A11="","",COUNTIF(B11:AF11,"H"))
AG12: =IF(A12="","",COUNTIF(B12:AF12,"P")+COUNTIF(B12:AF12,"H")/2) | AH12: =IF(A12="","",COUNTIF(B12:AF12,"A")) | AI12: =IF(A12="","",COUNTIF(B12:AF12,"L")) | AJ12: =IF(A12="","",COUNTIF(B12:AF12,"H"))
AG13: =IF(A13="","",COUNTIF(B13:AF13,"P")+COUNTIF(B13:AF13,"H")/2) | AH13: =IF(A13="","",COUNTIF(B13:AF13,"A")) | AI13: =IF(A13="","",COUNTIF(B13:AF13,"L")) | AJ13: =IF(A13="","",COUNTIF(B13:AF13,"H"))
AG14: =IF(A14="","",COUNTIF(B14:AF14,"P")+COUNTIF(B14:AF14,"H")/2) | AH14: =IF(A14="","",COUNTIF(B14:AF14,"A")) | AI14: =IF(A14="","",COUNTIF(B14:AF14,"L")) | AJ14: =IF(A14="","",COUNTIF(B14:AF14,"H"))
AG15: =IF(A15="","",COUNTIF(B15:AF15,"P")+COUNTIF(B15:AF15,"H")/2) | AH15: =IF(A15="","",COUNTIF(B15:AF15,"A")) | AI15: =IF(A15="","",COUNTIF(B15:AF15,"L")) | AJ15: =IF(A15="","",COUNTIF(B15:AF15,"H"))
... AG101: =IF(A101="","",COUNTIF(B101:AF101,"P")+COUNTIF(B101:AF101,"H")/2) | AH101: =IF(A101="","",COUNTIF(B101:AF101,"A")) | AI101: =IF(A101="","",COUNTIF(B101:AF101,"L")) | AJ101: =IF(A101="","",COUNTIF(B101:AF101,"H"))

Sheet Daily log
A1: Date | B1: Employee | C1: Time in | D1: Time out | E1: Hours | F1: Late? | G1: Place | H1: Notes
A2: 46310 | B2: Sample employee A | C2: 0.38333333 | D2: 0.75347222 | E2: =IF(OR(C2="",D2=""),"",(D2-C2)*24) | F2: =IF(C2="","",IF(C2>Settings!$B$1,"Late","")) | G2: Head office
A3: 46310 | B3: Sample employee B | C3: 0.40833333 | D3: 0.77083333 | E3: =IF(OR(C3="",D3=""),"",(D3-C3)*24) | F3: =IF(C3="","",IF(C3>Settings!$B$1,"Late","")) | G3: Client site | H3: Traffic
E4: =IF(OR(C4="",D4=""),"",(D4-C4)*24) | F4: =IF(C4="","",IF(C4>Settings!$B$1,"Late",""))
E5: =IF(OR(C5="",D5=""),"",(D5-C5)*24) | F5: =IF(C5="","",IF(C5>Settings!$B$1,"Late",""))
E6: =IF(OR(C6="",D6=""),"",(D6-C6)*24) | F6: =IF(C6="","",IF(C6>Settings!$B$1,"Late",""))
E7: =IF(OR(C7="",D7=""),"",(D7-C7)*24) | F7: =IF(C7="","",IF(C7>Settings!$B$1,"Late",""))
E8: =IF(OR(C8="",D8=""),"",(D8-C8)*24) | F8: =IF(C8="","",IF(C8>Settings!$B$1,"Late",""))
E9: =IF(OR(C9="",D9=""),"",(D9-C9)*24) | F9: =IF(C9="","",IF(C9>Settings!$B$1,"Late",""))
E10: =IF(OR(C10="",D10=""),"",(D10-C10)*24) | F10: =IF(C10="","",IF(C10>Settings!$B$1,"Late",""))
E11: =IF(OR(C11="",D11=""),"",(D11-C11)*24) | F11: =IF(C11="","",IF(C11>Settings!$B$1,"Late",""))
E12: =IF(OR(C12="",D12=""),"",(D12-C12)*24) | F12: =IF(C12="","",IF(C12>Settings!$B$1,"Late",""))
E13: =IF(OR(C13="",D13=""),"",(D13-C13)*24) | F13: =IF(C13="","",IF(C13>Settings!$B$1,"Late",""))
E14: =IF(OR(C14="",D14=""),"",(D14-C14)*24) | F14: =IF(C14="","",IF(C14>Settings!$B$1,"Late",""))
E15: =IF(OR(C15="",D15=""),"",(D15-C15)*24) | F15: =IF(C15="","",IF(C15>Settings!$B$1,"Late",""))
... E500: =IF(OR(C500="",D500=""),"",(D500-C500)*24) | F500: =IF(C500="","",IF(C500>Settings!$B$1,"Late",""))

Sheet Settings
A1: Start time (late after this) | B1: 0.39583333

Sheet How to use
A1: Employee attendance Excel sheet, free from RMDialer (rmdialer.com/employee-attendance-excel-sheet/)
A3: 1. Monthly sheet: one row per employee, one column per date. Use the dropdown: P present, A absent, L leave, H half day, WO weekly off.
A4: 2. Present, Absent, Leave and Half day add up on their own at the end of each row (a half day counts as half present).
A5: 3. Daily log sheet: record time in and time out; Hours works itself out and Late? compares time in with the start time on Settings.
A6: 4. Start each month by copying the Monthly sheet and clearing the codes.
A7: 5. Delete the sample rows first.
A9: A sheet only knows what someone types into it. In RMDialer staff punch in and out on their phone with a live selfie
A10: and the office location checked, breaks and late marks follow your branch rules, and the report builds itself.
