Workbook

Sheet Leads
A1: Date | B1: Name | C1: Phone | D1: Allocated to (formula) | E1: Frozen owner | F1: Status | G1: Remark
B2: Sample lead 1 | C2: 1111100001 | D2: =IF(C2="","",INDEX(Team!$A$2:$A$21,MOD(COUNTA($C$2:C2)-1,COUNTA(Team!$A$2:$A$21))+1)) | F2: New
B3: Sample lead 2 | C3: 1111100002 | D3: =IF(C3="","",INDEX(Team!$A$2:$A$21,MOD(COUNTA($C$2:C3)-1,COUNTA(Team!$A$2:$A$21))+1)) | F3: New
B4: Sample lead 3 | C4: 1111100003 | D4: =IF(C4="","",INDEX(Team!$A$2:$A$21,MOD(COUNTA($C$2:C4)-1,COUNTA(Team!$A$2:$A$21))+1)) | F4: New
B5: Sample lead 4 | C5: 1111100004 | D5: =IF(C5="","",INDEX(Team!$A$2:$A$21,MOD(COUNTA($C$2:C5)-1,COUNTA(Team!$A$2:$A$21))+1)) | F5: New
D6: =IF(C6="","",INDEX(Team!$A$2:$A$21,MOD(COUNTA($C$2:C6)-1,COUNTA(Team!$A$2:$A$21))+1))
D7: =IF(C7="","",INDEX(Team!$A$2:$A$21,MOD(COUNTA($C$2:C7)-1,COUNTA(Team!$A$2:$A$21))+1))
D8: =IF(C8="","",INDEX(Team!$A$2:$A$21,MOD(COUNTA($C$2:C8)-1,COUNTA(Team!$A$2:$A$21))+1))
D9: =IF(C9="","",INDEX(Team!$A$2:$A$21,MOD(COUNTA($C$2:C9)-1,COUNTA(Team!$A$2:$A$21))+1))
D10: =IF(C10="","",INDEX(Team!$A$2:$A$21,MOD(COUNTA($C$2:C10)-1,COUNTA(Team!$A$2:$A$21))+1))
D11: =IF(C11="","",INDEX(Team!$A$2:$A$21,MOD(COUNTA($C$2:C11)-1,COUNTA(Team!$A$2:$A$21))+1))
D12: =IF(C12="","",INDEX(Team!$A$2:$A$21,MOD(COUNTA($C$2:C12)-1,COUNTA(Team!$A$2:$A$21))+1))
D13: =IF(C13="","",INDEX(Team!$A$2:$A$21,MOD(COUNTA($C$2:C13)-1,COUNTA(Team!$A$2:$A$21))+1))
D14: =IF(C14="","",INDEX(Team!$A$2:$A$21,MOD(COUNTA($C$2:C14)-1,COUNTA(Team!$A$2:$A$21))+1))
D15: =IF(C15="","",INDEX(Team!$A$2:$A$21,MOD(COUNTA($C$2:C15)-1,COUNTA(Team!$A$2:$A$21))+1))
D16: =IF(C16="","",INDEX(Team!$A$2:$A$21,MOD(COUNTA($C$2:C16)-1,COUNTA(Team!$A$2:$A$21))+1))
D17: =IF(C17="","",INDEX(Team!$A$2:$A$21,MOD(COUNTA($C$2:C17)-1,COUNTA(Team!$A$2:$A$21))+1))
... D500: =IF(C500="","",INDEX(Team!$A$2:$A$21,MOD(COUNTA($C$2:C500)-1,COUNTA(Team!$A$2:$A$21))+1))

Sheet Team
A1: Team members (in turn order)
A2: Caller A
A3: Caller B
A4: Caller C

Sheet How it works
A1: Lead allocation sheet, by RMDialer (rmdialer.com/lead-allocation-sheet/)
A3: 1. On the Team sheet, list the people who take turns, one per row, in the order they should receive leads.
A4: 2. Paste or type new leads on the Leads sheet. Column D shows who each lead is allocated to, in turn.
A5: 3. IMPORTANT: the formula recalculates. If you add, remove or reorder names on the Team sheet, past rows
A6: can move to different people. At the end of each day, copy column D and use Paste Special, Values into
A7: column E (Frozen owner). Work from column E, never from D.
A8: 4. Delete the four sample rows first. Their numbers are fake.
A10: Software such as RMDialer does the same rotation per lead source, keeps each lead with its owner when the
A11: team changes, and puts the lead on the owner's phone ready to call.
