Workbook

Sheet Payments
A1: Invoice no. | B1: Client | C1: Phone | D1: Invoice date | E1: Amount | F1: Paid | G1: Due | H1: Due date | I1: Days late | J1: Status | K1: Last reminder | L1: Next reminder | M1: Notes
A2: INV-001 | B2: Sample client A | C2: 1111100001 | D2: 46266 | E2: 25000 | F2: 10000 | G2: =IF(E2="","",E2-F2) | H2: 46296 | I2: =IF(OR(H2="",G2<=0),"",MAX(0,TODAY()-H2)) | J2: =IF(E2="","",IF(G2<=0,"Paid",IF(H2<TODAY(),"Overdue",IF(F2>0,"Part paid","Not due")))) | K2: 46304 | L2: 46311 | M2: Promised balance after month end
A3: INV-002 | B3: Sample client B | C3: 1111100002 | D3: 46301 | E3: 8000 | F3: 0 | G3: =IF(E3="","",E3-F3) | H3: 46331 | I3: =IF(OR(H3="",G3<=0),"",MAX(0,TODAY()-H3)) | J3: =IF(E3="","",IF(G3<=0,"Paid",IF(H3<TODAY(),"Overdue",IF(F3>0,"Part paid","Not due")))) | L3: 46329
A4: INV-003 | B4: Sample client C | C4: 1111100003 | D4: 46281 | E4: 12000 | F4: 12000 | G4: =IF(E4="","",E4-F4) | H4: 46311 | I4: =IF(OR(H4="",G4<=0),"",MAX(0,TODAY()-H4)) | J4: =IF(E4="","",IF(G4<=0,"Paid",IF(H4<TODAY(),"Overdue",IF(F4>0,"Part paid","Not due")))) | M4: Paid by UPI
G5: =IF(E5="","",E5-F5) | I5: =IF(OR(H5="",G5<=0),"",MAX(0,TODAY()-H5)) | J5: =IF(E5="","",IF(G5<=0,"Paid",IF(H5<TODAY(),"Overdue",IF(F5>0,"Part paid","Not due"))))
G6: =IF(E6="","",E6-F6) | I6: =IF(OR(H6="",G6<=0),"",MAX(0,TODAY()-H6)) | J6: =IF(E6="","",IF(G6<=0,"Paid",IF(H6<TODAY(),"Overdue",IF(F6>0,"Part paid","Not due"))))
G7: =IF(E7="","",E7-F7) | I7: =IF(OR(H7="",G7<=0),"",MAX(0,TODAY()-H7)) | J7: =IF(E7="","",IF(G7<=0,"Paid",IF(H7<TODAY(),"Overdue",IF(F7>0,"Part paid","Not due"))))
G8: =IF(E8="","",E8-F8) | I8: =IF(OR(H8="",G8<=0),"",MAX(0,TODAY()-H8)) | J8: =IF(E8="","",IF(G8<=0,"Paid",IF(H8<TODAY(),"Overdue",IF(F8>0,"Part paid","Not due"))))
G9: =IF(E9="","",E9-F9) | I9: =IF(OR(H9="",G9<=0),"",MAX(0,TODAY()-H9)) | J9: =IF(E9="","",IF(G9<=0,"Paid",IF(H9<TODAY(),"Overdue",IF(F9>0,"Part paid","Not due"))))
G10: =IF(E10="","",E10-F10) | I10: =IF(OR(H10="",G10<=0),"",MAX(0,TODAY()-H10)) | J10: =IF(E10="","",IF(G10<=0,"Paid",IF(H10<TODAY(),"Overdue",IF(F10>0,"Part paid","Not due"))))
G11: =IF(E11="","",E11-F11) | I11: =IF(OR(H11="",G11<=0),"",MAX(0,TODAY()-H11)) | J11: =IF(E11="","",IF(G11<=0,"Paid",IF(H11<TODAY(),"Overdue",IF(F11>0,"Part paid","Not due"))))
G12: =IF(E12="","",E12-F12) | I12: =IF(OR(H12="",G12<=0),"",MAX(0,TODAY()-H12)) | J12: =IF(E12="","",IF(G12<=0,"Paid",IF(H12<TODAY(),"Overdue",IF(F12>0,"Part paid","Not due"))))
G13: =IF(E13="","",E13-F13) | I13: =IF(OR(H13="",G13<=0),"",MAX(0,TODAY()-H13)) | J13: =IF(E13="","",IF(G13<=0,"Paid",IF(H13<TODAY(),"Overdue",IF(F13>0,"Part paid","Not due"))))
G14: =IF(E14="","",E14-F14) | I14: =IF(OR(H14="",G14<=0),"",MAX(0,TODAY()-H14)) | J14: =IF(E14="","",IF(G14<=0,"Paid",IF(H14<TODAY(),"Overdue",IF(F14>0,"Part paid","Not due"))))
G15: =IF(E15="","",E15-F15) | I15: =IF(OR(H15="",G15<=0),"",MAX(0,TODAY()-H15)) | J15: =IF(E15="","",IF(G15<=0,"Paid",IF(H15<TODAY(),"Overdue",IF(F15>0,"Part paid","Not due"))))
G16: =IF(E16="","",E16-F16) | I16: =IF(OR(H16="",G16<=0),"",MAX(0,TODAY()-H16)) | J16: =IF(E16="","",IF(G16<=0,"Paid",IF(H16<TODAY(),"Overdue",IF(F16>0,"Part paid","Not due"))))
... G500: =IF(E500="","",E500-F500) | I500: =IF(OR(H500="",G500<=0),"",MAX(0,TODAY()-H500)) | J500: =IF(E500="","",IF(G500<=0,"Paid",IF(H500<TODAY(),"Overdue",IF(F500>0,"Part paid","Not due"))))

Sheet Summary
A1: Total invoiced | B1: =SUM(Payments!E:E)
A2: Total paid | B2: =SUM(Payments!F:F)
A3: Total due | B3: =SUM(Payments!G:G)
A4: Overdue amount | B4: =SUMIF(Payments!J:J,"Overdue",Payments!G:G)
A5: Overdue invoices | B5: =COUNTIF(Payments!J:J,"Overdue")

Sheet How to use
A1: Payment follow-up Excel sheet, free from RMDialer (rmdialer.com/payment-follow-up-excel-sheet/)
A3: 1. Delete the sample rows. Their numbers are fake.
A4: 2. One row per invoice. Enter the amount and what has been paid; Due, Days late and Status work themselves out.
A5: 3. Red rows are overdue. Amber rows have a reminder due today: call or message, then set Last reminder and the next one.
A6: 4. The Summary sheet adds up what is invoiced, paid, due and overdue.
A7: 5. Be polite and specific in reminders: the invoice number, the amount and the date it was due.
A9: In RMDialer each sale is its own record with the amount paid and due, clients with payment due can be filtered,
A10: and a reminder rings on the day to call them, with an optional WhatsApp message when it fires.
