Workbook

Sheet Deals
A1: Deal | B1: Company | C1: Contact | D1: Phone | E1: Stage | F1: Value | G1: Win chance | H1: Weighted value | I1: Expected close | J1: Owner | K1: Next step
A2: Sample deal A | B2: Sample Co | C2: Contact A | D2: 1111100001 | E2: Proposal | F2: 60000 | G2: =IF(E2="","",INDEX(Lists!$B$2:$B$7,MATCH(E2,Lists!$A$2:$A$7,0))) | H2: =IF(OR(F2="",G2=""),"",F2*G2) | I2: 46321 | J2: Owner 1 | K2: Revised quote by Friday
A3: Sample deal B | B3: Demo Traders | C3: Contact B | D3: 1111100002 | E3: Qualified | F3: 25000 | G3: =IF(E3="","",INDEX(Lists!$B$2:$B$7,MATCH(E3,Lists!$A$2:$A$7,0))) | H3: =IF(OR(F3="",G3=""),"",F3*G3) | I3: 46341 | J3: Owner 2 | K3: Site visit
A4: Sample deal C | B4: Example Ltd | C4: Contact C | D4: 1111100003 | E4: Negotiation | F4: 90000 | G4: =IF(E4="","",INDEX(Lists!$B$2:$B$7,MATCH(E4,Lists!$A$2:$A$7,0))) | H4: =IF(OR(F4="",G4=""),"",F4*G4) | I4: 46309 | J4: Owner 1 | K4: Close date passed: call today
G5: =IF(E5="","",INDEX(Lists!$B$2:$B$7,MATCH(E5,Lists!$A$2:$A$7,0))) | H5: =IF(OR(F5="",G5=""),"",F5*G5)
G6: =IF(E6="","",INDEX(Lists!$B$2:$B$7,MATCH(E6,Lists!$A$2:$A$7,0))) | H6: =IF(OR(F6="",G6=""),"",F6*G6)
G7: =IF(E7="","",INDEX(Lists!$B$2:$B$7,MATCH(E7,Lists!$A$2:$A$7,0))) | H7: =IF(OR(F7="",G7=""),"",F7*G7)
G8: =IF(E8="","",INDEX(Lists!$B$2:$B$7,MATCH(E8,Lists!$A$2:$A$7,0))) | H8: =IF(OR(F8="",G8=""),"",F8*G8)
G9: =IF(E9="","",INDEX(Lists!$B$2:$B$7,MATCH(E9,Lists!$A$2:$A$7,0))) | H9: =IF(OR(F9="",G9=""),"",F9*G9)
G10: =IF(E10="","",INDEX(Lists!$B$2:$B$7,MATCH(E10,Lists!$A$2:$A$7,0))) | H10: =IF(OR(F10="",G10=""),"",F10*G10)
G11: =IF(E11="","",INDEX(Lists!$B$2:$B$7,MATCH(E11,Lists!$A$2:$A$7,0))) | H11: =IF(OR(F11="",G11=""),"",F11*G11)
G12: =IF(E12="","",INDEX(Lists!$B$2:$B$7,MATCH(E12,Lists!$A$2:$A$7,0))) | H12: =IF(OR(F12="",G12=""),"",F12*G12)
G13: =IF(E13="","",INDEX(Lists!$B$2:$B$7,MATCH(E13,Lists!$A$2:$A$7,0))) | H13: =IF(OR(F13="",G13=""),"",F13*G13)
G14: =IF(E14="","",INDEX(Lists!$B$2:$B$7,MATCH(E14,Lists!$A$2:$A$7,0))) | H14: =IF(OR(F14="",G14=""),"",F14*G14)
G15: =IF(E15="","",INDEX(Lists!$B$2:$B$7,MATCH(E15,Lists!$A$2:$A$7,0))) | H15: =IF(OR(F15="",G15=""),"",F15*G15)
G16: =IF(E16="","",INDEX(Lists!$B$2:$B$7,MATCH(E16,Lists!$A$2:$A$7,0))) | H16: =IF(OR(F16="",G16=""),"",F16*G16)
... G500: =IF(E500="","",INDEX(Lists!$B$2:$B$7,MATCH(E500,Lists!$A$2:$A$7,0))) | H500: =IF(OR(F500="",G500=""),"",F500*G500)

Sheet Lists
A1: Stage | B1: Win chance | D1: Owners
A2: Lead | B2: 0.1 | D2: Owner 1
A3: Qualified | B3: 0.25 | D3: Owner 2
A4: Proposal | B4: 0.5 | D4: Owner 3
A5: Negotiation | B5: 0.75
A6: Won | B6: 1
A7: Lost | B7: 0

Sheet Pipeline
A1: Stage | B1: Deals | C1: Value | D1: Weighted value
A2: Lead | B2: =COUNTIF(Deals!E:E,A2) | C2: =SUMIF(Deals!E:E,A2,Deals!F:F) | D2: =SUMIF(Deals!E:E,A2,Deals!H:H)
A3: Qualified | B3: =COUNTIF(Deals!E:E,A3) | C3: =SUMIF(Deals!E:E,A3,Deals!F:F) | D3: =SUMIF(Deals!E:E,A3,Deals!H:H)
A4: Proposal | B4: =COUNTIF(Deals!E:E,A4) | C4: =SUMIF(Deals!E:E,A4,Deals!F:F) | D4: =SUMIF(Deals!E:E,A4,Deals!H:H)
A5: Negotiation | B5: =COUNTIF(Deals!E:E,A5) | C5: =SUMIF(Deals!E:E,A5,Deals!F:F) | D5: =SUMIF(Deals!E:E,A5,Deals!H:H)
A6: Won | B6: =COUNTIF(Deals!E:E,A6) | C6: =SUMIF(Deals!E:E,A6,Deals!F:F) | D6: =SUMIF(Deals!E:E,A6,Deals!H:H)
A7: Lost | B7: =COUNTIF(Deals!E:E,A7) | C7: =SUMIF(Deals!E:E,A7,Deals!F:F) | D7: =SUMIF(Deals!E:E,A7,Deals!H:H)
A9: Open pipeline (Lead to Negotiation) | C9: =SUM(C2:C5) | D9: =SUM(D2:D5)

Sheet How to use
A1: Sales pipeline Excel template, free from RMDialer (rmdialer.com/sales-pipeline-excel-template/)
A3: 1. Delete the sample deals. Their numbers are fake.
A4: 2. One row per deal. Pick the Stage; Win chance and Weighted value fill in from the Lists sheet.
A5: 3. Change the win chance for each stage on the Lists sheet to match your own history once you have some.
A6: 4. Amber rows are past their expected close date and still open: call or move the date.
A7: 5. The Pipeline sheet totals deals and value per stage and draws the chart.
A9: In RMDialer the pipeline is your own lead statuses: each call ends with a status, a remark and the next
A10: follow-up, and the Web CRM shows a conversion funnel and leads by status without anyone updating a sheet.
